BEGIN:VCALENDAR
VERSION:2.0
PRODID:-//AudioTheme 3.0.2
BEGIN:VEVENT
UID:urn:uuid:bf80e402-ba64-43ab-bdb8-671cf7064ddb
URL:https://makke.band/shows/2024-09-07/
DTSTART;TZID=GMT:20240907T180000
SUMMARY:makke live im Sepulkralmuseum
DESCRIPTION:makke live bei der Nacht der Museen! Ein ganz besonderes Konzert für uns ...
LOCATION:Museum für Sepulkralkultur\, Weinbergstraße 25-27\, Kassel\, \, 34117
END:VEVENT
END:VCALENDAR
