BEGIN:VCALENDAR
VERSION:2.0
PRODID:-//AudioTheme 3.0.2
BEGIN:VEVENT
UID:urn:uuid:afc0f1b8-4123-457e-97ae-bebdca2bef36
URL:https://makke.band/shows/2024-09-27/
DTSTART;TZID=GMT:20241011T180000
SUMMARY:makke live im Sandershaus
DESCRIPTION:Wir spielen live im Sandershaus. Wir freuen uns sehr!
LOCATION:Sandershaus Kassel\, Sandershäuser Str. 79\, 34123 Kassel\, Kassel\, \, Deutschland\, 34123
END:VEVENT
END:VCALENDAR
