BEGIN:VCALENDAR
VERSION:2.0
PRODID:-//AudioTheme 3.0.2
BEGIN:VEVENT
UID:urn:uuid:5ce4372c-ac39-4f40-b468-4c11cf293be6
URL:https://makke.band/shows/2024-12-12/
DTSTART;TZID=GMT:20241212T190000
SUMMARY:makke live im Theaterstübchen Kassel
DESCRIPTION:Wir freuen uns riesig\, wieder im Theaterstübchen zu spielen.
LOCATION:Theaterstübchen Kassel\, Jordanstraße 11\, Kassel\, \, Deutschland\, 34117
END:VEVENT
END:VCALENDAR
