BEGIN:VCALENDAR
VERSION:2.0
PRODID:-//AudioTheme 3.0.2
BEGIN:VEVENT
UID:urn:uuid:a0ef5576-866b-45e2-8b09-0199a6582651
URL:https://makke.band/shows/makke-beim-stoffel-festival-in-frankfurt/
DTSTART;TZID=GMT:20240717T180000
SUMMARY:makke beim Stoffel Festival in Frankfurt
DESCRIPTION:Wir freuen uns sehr auf das Stoffel in Frankfurt!
LOCATION:Günthersburgpark Frankfurt\, Wetteraustraße 7\, Frankfurt am Main\, \, 60389
END:VEVENT
END:VCALENDAR
