BEGIN:VCALENDAR
VERSION:2.0
PRODID:-//AudioTheme 3.0.2
BEGIN:VEVENT
UID:urn:uuid:6bddd0f1-1a97-40ae-9928-9ec83781c1c7
URL:https://makke.band/shows/makke-live-beim-bluecherstrassenfest/
DTSTART;TZID=GMT:20240824T170000
SUMMARY:makke live beim Blücherstraßenfest
DESCRIPTION:Große Vorfreude auf das Blücherstraßenfest in Kassel\, Unterneustadt
LOCATION:Blücherstraße\, Blücherstraße 24\, Kassel\, \, 34123
END:VEVENT
END:VCALENDAR
